BEGIN:VCALENDAR
VERSION:2.0
PRODID:-//Populus Seattle - ECPv6.15.20//NONSGML v1.0//EN
CALSCALE:GREGORIAN
METHOD:PUBLISH
X-WR-CALNAME:Populus Seattle
X-ORIGINAL-URL:https://populusseattle.com
X-WR-CALDESC:Events for Populus Seattle
REFRESH-INTERVAL;VALUE=DURATION:PT1H
X-Robots-Tag:noindex
X-PUBLISHED-TTL:PT1H
BEGIN:VTIMEZONE
TZID:America/Denver
BEGIN:DAYLIGHT
TZOFFSETFROM:-0700
TZOFFSETTO:-0600
TZNAME:MDT
DTSTART:20250309T090000
END:DAYLIGHT
BEGIN:STANDARD
TZOFFSETFROM:-0600
TZOFFSETTO:-0700
TZNAME:MST
DTSTART:20251102T080000
END:STANDARD
BEGIN:DAYLIGHT
TZOFFSETFROM:-0700
TZOFFSETTO:-0600
TZNAME:MDT
DTSTART:20260308T090000
END:DAYLIGHT
BEGIN:STANDARD
TZOFFSETFROM:-0600
TZOFFSETTO:-0700
TZNAME:MST
DTSTART:20261101T080000
END:STANDARD
BEGIN:DAYLIGHT
TZOFFSETFROM:-0700
TZOFFSETTO:-0600
TZNAME:MDT
DTSTART:20270314T090000
END:DAYLIGHT
BEGIN:STANDARD
TZOFFSETFROM:-0600
TZOFFSETTO:-0700
TZNAME:MST
DTSTART:20271107T080000
END:STANDARD
END:VTIMEZONE
BEGIN:VEVENT
DTSTART;TZID=America/Denver:20260503T103000
DTEND;TZID=America/Denver:20260503T130000
DTSTAMP:20260419T064311
CREATED:20260305T164747Z
LAST-MODIFIED:20260409T173930Z
UID:10002964-1777804200-1777813200@populusseattle.com
SUMMARY:Jazz Brunch
DESCRIPTION:In partnership with the Seattle Jazz Fellowship\, live music weaves through clinking glasses\, shared bites\, and unhurried conversations\, every 1st and 3rd Sunday for Jazz Brunch. \nThis week’s featured ensemble is Duende Libre\, an award-winning jazz trio whose original music celebrates the connections between global rhythms from Cuba\, Brazil\, and the Mediterranean with the American jazz tradition. \nJazz Brunch at Salt Harvest blends sustainably sourced ingredients and hearth inspired cooking with the rhythms of live local jazz\, creating a celebration of Pacific Northwest flavors meant to be savored. \nPlan your brunch experience here. \nExplore the menu here.
URL:https://populusseattle.com/event/jazz-brunch-3-3/
LOCATION:Populus Seattle\, 100 S King St\, Seattle\, WA\, 98104\, United States
CATEGORIES:Salt Harvest
ATTACH;FMTTYPE=image/jpeg:https://populusseattle.com/app/uploads/2026/03/Duende-Libre-2.jpeg
END:VEVENT
BEGIN:VEVENT
DTSTART;TZID=America/Denver:20260517T103000
DTEND;TZID=America/Denver:20260517T130000
DTSTAMP:20260419T064311
CREATED:20260305T164527Z
LAST-MODIFIED:20260409T174756Z
UID:10002963-1779013800-1779022800@populusseattle.com
SUMMARY:Jazz Brunch
DESCRIPTION:In partnership with the Seattle Jazz Fellowship\, live music weaves through clinking glasses\, shared bites\, and unhurried conversations\, every 1st and 3rd Sunday for Jazz Brunch. \nThis week’s featured ensemble is Pico Trio\, a Seattle‑based jazz trio featuring bassist Trevor Ford\, pianist Dylan Hayes\, and guitarist Martin Budde. Pico Trio blends modern pop tunes with jazz standards in deep respect for the jazz tradition. \nJazz Brunch at Salt Harvest blends sustainably sourced ingredients and hearth inspired cooking with the rhythms of live local jazz\, creating a celebration of Pacific Northwest flavors meant to be savored. \nPlan your brunch experience here. \nExplore the menu here.
URL:https://populusseattle.com/event/jazz-brunch-3-2/
LOCATION:Populus Seattle\, 100 S King St\, Seattle\, WA\, 98104\, United States
CATEGORIES:Salt Harvest
ATTACH;FMTTYPE=image/jpeg:https://populusseattle.com/app/uploads/2026/03/625917356_17842002249691066_8823223727968555103_n.jpg
END:VEVENT
BEGIN:VEVENT
DTSTART;TZID=America/Denver:20260607T103000
DTEND;TZID=America/Denver:20260607T130000
DTSTAMP:20260419T064311
CREATED:20260409T175948Z
LAST-MODIFIED:20260409T175948Z
UID:10002973-1780828200-1780837200@populusseattle.com
SUMMARY:Jazz Brunch
DESCRIPTION:In partnership with the Seattle Jazz Fellowship\, live music weaves through clinking glasses\, shared bites\, and unhurried conversations\, every 1st and 3rd Sunday for Jazz Brunch. \nThis week’s featured ensemble is the  Bill Anschell Standards Trio. Seattle native pianist and composer Bill Anschell is an award-winning artist known for his dynamic\, rhythmically inventive style. With roots at Wesleyan University and a global career that includes collaborations with Nnenna Freelon and performances at major festivals\, he has become a leading figure in the Northwest jazz scene since returning home\, earning multiple Golden Ear Awards and widespread acclaim. \nJazz Brunch at Salt Harvest blends sustainably sourced ingredients and hearth inspired cooking with the rhythms of live local jazz\, creating a celebration of Pacific Northwest flavors meant to be savored. \nPlan your brunch experience here. \nExplore the menu here.
URL:https://populusseattle.com/event/jazz-brunch-5/
LOCATION:Populus Seattle\, 100 S King St\, Seattle\, WA\, 98104\, United States
CATEGORIES:Salt Harvest
ATTACH;FMTTYPE=image/jpeg:https://populusseattle.com/app/uploads/2026/04/Bill-Anschell-Standards-Trio-.jpg
END:VEVENT
BEGIN:VEVENT
DTSTART;TZID=America/Denver:20260621T103000
DTEND;TZID=America/Denver:20260621T130000
DTSTAMP:20260419T064311
CREATED:20260409T180958Z
LAST-MODIFIED:20260409T181147Z
UID:10002974-1782037800-1782046800@populusseattle.com
SUMMARY:Jazz Brunch
DESCRIPTION:In partnership with the Seattle Jazz Fellowship\, live music weaves through clinking glasses\, shared bites\, and unhurried conversations\, every 1st and 3rd Sunday for Jazz Brunch. \nThis week’s featured ensemble is Jaqueline Tabor \, a Seattle-based jazz and blues vocalist who commands the stage with a captivating blend of skill\, emotional depth\, and authenticity. Every note\, phrase\, and pause reflects her full engagement\, drawing audiences in and delivering a performance that’s honest\, heartfelt\, and unforgettable. \nJazz Brunch at Salt Harvest blends sustainably sourced ingredients and hearth inspired cooking with the rhythms of live local jazz\, creating a celebration of Pacific Northwest flavors meant to be savored. \nPlan your brunch experience here. \nExplore the menu here.
URL:https://populusseattle.com/event/jazz-brunch-6/
LOCATION:Populus Seattle\, 100 S King St\, Seattle\, WA\, 98104\, United States
CATEGORIES:Salt Harvest
ATTACH;FMTTYPE=image/webp:https://populusseattle.com/app/uploads/2026/04/Tabor-Jazz.webp
END:VEVENT
END:VCALENDAR